View In:
ArcGIS JavaScript
ArcGIS Online Map Viewer
ArcGIS Earth
Service Description: kalastus/karsittu_2012_jpg
Name: kalastus/karsittu_2012_jpg
Description:
Single Fused Map Cache: false
Extent:
XMin: 1516824.5000333332
YMin: 6824928.599966668
XMax: 1539519.4000333315
YMax: 6842098.999966666
Spatial Reference: 2391
(2391)
LatestVCSWkid(0)
Initial Extent:
XMin: 1516824.5000333332
YMin: 6824928.599966668
XMax: 1539519.4000333315
YMax: 6842098.999966666
Spatial Reference: 2391
(2391)
LatestVCSWkid(0)
Full Extent:
XMin: 1516824.5000333332
YMin: 6824928.599966668
XMax: 1539519.4000333315
YMax: 6842098.999966666
Spatial Reference: 2391
(2391)
LatestVCSWkid(0)
Pixel Size X: 4.233333333333012
Pixel Size Y: 4.233333333332966
Band Count: 3
Pixel Type: U8
RasterFunction Infos: {"rasterFunctionInfos": [{
"name": "None",
"description": "",
"help": ""
}]}
Mensuration Capabilities: Basic
Inspection Capabilities:
Has Histograms: true
Has Colormap: false
Has Multi Dimensions : false
Rendering Rule:
Min Scale: 0
Max Scale: 0
Copyright Text:
Service Data Type: esriImageServiceDataTypeRGB
Min Values: 0, 0, 0
Max Values: 255, 255, 255
Mean Values: 183.21004624861, 213.01072036812, 218.5898813275
Standard Deviation Values: 51.093617159465, 47.656767210982, 43.654472571792
Object ID Field:
Fields:
None
Default Mosaic Method: Center
Allowed Mosaic Methods:
SortField:
SortValue: null
Mosaic Operator: First
Default Compression Quality: 75
Default Resampling Method: Bilinear
Max Record Count: null
Max Image Height: 4100
Max Image Width: 15000
Max Download Image Count: null
Max Mosaic Image Count: null
Allow Raster Function: true
Allow Copy: true
Allow Analysis: true
Allow Compute TiePoints: false
Supports Statistics: false
Supports Advanced Queries: false
Use StandardizedQueries: true
Raster Type Infos:
Name: Raster Dataset
Description: Supports all ArcGIS Raster Datasets
Help:
Has Raster Attribute Table: false
Edit Fields Info: null
Ownership Based AccessControl For Rasters: null
Child Resources:
Info
Histograms
Statistics
Key Properties
Legend
Raster Function Infos
Supported Operations:
Export Image
Identify
Measure
Compute Histograms
Compute Statistics Histograms
Get Samples
Compute Class Statistics
Query Boundary
Compute Pixel Location
Compute Angles
Validate
Project