{
 "currentVersion": 11.4,
 "serviceDescription": "kalastus/karsittu_2012_jpg",
 "name": "kalastus/karsittu_2012_jpg",
 "description": "",
 "extent": {
  "xmin": 1516824.5000333332,
  "ymin": 6824928.599966668,
  "xmax": 1539519.4000333315,
  "ymax": 6842098.999966666,
  "spatialReference": {
   "wkid": 2391,
   "latestWkid": 2391
  }
 },
 "initialExtent": {
  "xmin": 1516824.5000333332,
  "ymin": 6824928.599966668,
  "xmax": 1539519.4000333315,
  "ymax": 6842098.999966666,
  "spatialReference": {
   "wkid": 2391,
   "latestWkid": 2391
  }
 },
 "fullExtent": {
  "xmin": 1516824.5000333332,
  "ymin": 6824928.599966668,
  "xmax": 1539519.4000333315,
  "ymax": 6842098.999966666,
  "spatialReference": {
   "wkid": 2391,
   "latestWkid": 2391
  }
 },
 "sortableFields": "",
 "bandCount": 3,
 "pixelType": "U8",
 "minValues": [
  0,
  0,
  0
 ],
 "maxValues": [
  255,
  255,
  255
 ],
 "meanValues": [
  183.21004624861,
  213.01072036812,
  218.5898813275
 ],
 "stdvValues": [
  51.093617159465,
  47.656767210982,
  43.654472571792
 ],
 "hasMultidimensions": false,
 "pixelSizeX": 4.233333333333012,
 "pixelSizeY": 4.233333333332966,
 "meanPixelSize": 4.233333333332989,
 "datasetFormat": "JFIF",
 "uncompressedSize": 65232648,
 "blockWidth": 5361,
 "blockHeight": 1,
 "compressionType": "JPEG",
 "bandNames": [
  "Band_1",
  "Band_2",
  "Band_3"
 ],
 "allowCopy": true,
 "allowAnalysis": true,
 "itemAccess": false,
 "inspectionCapabilities": "",
 "minPixelSize": 0,
 "maxPixelSize": 0,
 "copyrightText": "",
 "serviceDataType": "esriImageServiceDataTypeRGB",
 "serviceSourceType": "esriImageServiceSourceTypeDataset",
 "objectIdField": "",
 "fields": [],
 "capabilities": "Image,Metadata,Mensuration",
 "defaultMosaicMethod": "Center",
 "allowedMosaicMethods": "",
 "sortField": "",
 "sortValue": null,
 "sortAscending": true,
 "mosaicOperator": "First",
 "defaultCompressionQuality": 75,
 "defaultResamplingMethod": "Bilinear",
 "maxImageHeight": 4100,
 "maxImageWidth": 15000,
 "allowRasterFunction": true,
 "rasterFunctionInfos": [
  {
   "name": "None",
   "description": "",
   "help": ""
  }
 ],
 "rasterTypeInfos": [
  {
   "name": "Raster Dataset",
   "description": "Supports all ArcGIS Raster Datasets",
   "help": ""
  }
 ],
 "mensurationCapabilities": "Basic",
 "hasHistograms": true,
 "hasColormap": false,
 "hasRasterAttributeTable": false,
 "minScale": 0,
 "maxScale": 0,
 "exportTilesAllowed": false,
 "supportsStatistics": false,
 "supportsAdvancedQueries": false,
 "editFieldsInfo": null,
 "ownershipBasedAccessControlForRasters": null,
 "allowComputeTiePoints": false,
 "useStandardizedQueries": true,
 "advancedQueryCapabilities": {
  "useStandardizedQueries": true,
  "supportsStatistics": false,
  "supportsOrderBy": false,
  "supportsDistinct": false,
  "supportsPagination": false
 },
 "spatialReference": {
  "wkid": 2391,
  "latestWkid": 2391
 }
}
